BEGIN:VCALENDAR
VERSION:2.0
PRODID:-//The Meux Home Museum - ECPv6.15.20//NONSGML v1.0//EN
CALSCALE:GREGORIAN
METHOD:PUBLISH
X-WR-CALNAME:The Meux Home Museum
X-ORIGINAL-URL:https://meuxhomemuseum.org
X-WR-CALDESC:Events for The Meux Home Museum
REFRESH-INTERVAL;VALUE=DURATION:PT1H
X-Robots-Tag:noindex
X-PUBLISHED-TTL:PT1H
BEGIN:VTIMEZONE
TZID:America/Los_Angeles
BEGIN:DAYLIGHT
TZOFFSETFROM:-0800
TZOFFSETTO:-0700
TZNAME:PDT
DTSTART:20240310T100000
END:DAYLIGHT
BEGIN:STANDARD
TZOFFSETFROM:-0700
TZOFFSETTO:-0800
TZNAME:PST
DTSTART:20241103T090000
END:STANDARD
BEGIN:DAYLIGHT
TZOFFSETFROM:-0800
TZOFFSETTO:-0700
TZNAME:PDT
DTSTART:20250309T100000
END:DAYLIGHT
BEGIN:STANDARD
TZOFFSETFROM:-0700
TZOFFSETTO:-0800
TZNAME:PST
DTSTART:20251102T090000
END:STANDARD
BEGIN:DAYLIGHT
TZOFFSETFROM:-0800
TZOFFSETTO:-0700
TZNAME:PDT
DTSTART:20260308T100000
END:DAYLIGHT
BEGIN:STANDARD
TZOFFSETFROM:-0700
TZOFFSETTO:-0800
TZNAME:PST
DTSTART:20261101T090000
END:STANDARD
BEGIN:DAYLIGHT
TZOFFSETFROM:-0800
TZOFFSETTO:-0700
TZNAME:PDT
DTSTART:20270314T100000
END:DAYLIGHT
BEGIN:STANDARD
TZOFFSETFROM:-0700
TZOFFSETTO:-0800
TZNAME:PST
DTSTART:20271107T090000
END:STANDARD
END:VTIMEZONE
BEGIN:VEVENT
DTSTART;VALUE=DATE:20260101
DTEND;VALUE=DATE:20260201
DTSTAMP:20260425T094510
CREATED:20260109T024609Z
LAST-MODIFIED:20260109T024609Z
UID:2640-1767225600-1769903999@meuxhomemuseum.org
SUMMARY:January Closure and Seasonal Preparation
DESCRIPTION:Each year\, the Meux Home Museum pauses its public hours for a short but meaningful stretch. Throughout the month of January 2026\, the museum will be closed as our volunteers care for the house itself. This time allows for deep cleaning\, thoughtful exhibit resets\, and behind the scenes work that protects the home and the stories held within its walls. \nThis quiet season is part of how we honor the past while preparing for the year ahead. When we reopen\, the house will be refreshed\, welcoming\, and ready to receive guests once again. \nThe Meux Home Museum will reopen the first weekend of February 2026\, and we look forward to opening our doors to you then. \nIf you have questions\, would like to plan a future visit\, or are interested in tours\, events\, or volunteering\, we would love to hear from you. \nHow to contact us\n• Email us through the Contact page on our website• Use the Contact Us form for tour inquiries\, rentals\, or general questions• Messages sent during January will still be received\, and we will respond as soon as possible \nWe also invite you to stay connected during our closure by following us on Facebook\, where we share updates\, behind the scenes moments\, and announcements about upcoming events and reopening details. \nThank you for supporting this historic home and the volunteers who steward it with care. We look forward to welcoming you back in February.
URL:https://meuxhomemuseum.org/events/january-closure-and-seasonal-preparation/
LOCATION:CA
ATTACH;FMTTYPE=image/png:https://meuxhomemuseum.org/wp-content/uploads/2026/01/286C61FF-B0EC-4B90-83C5-9461E38C023C.png
END:VEVENT
BEGIN:VEVENT
DTSTART;TZID=America/Los_Angeles:20251219T180000
DTEND;TZID=America/Los_Angeles:20251219T204000
DTSTAMP:20260425T094510
CREATED:20251201T223549Z
LAST-MODIFIED:20251218T214746Z
UID:2467-1766167200-1766176800@meuxhomemuseum.org
SUMMARY:Fairytale Christmas Light Tour
DESCRIPTION:Step lightly\, dear guest\, for on Friday\, December 19\, the Meux Home Museum will shine with a gentler kind of magic. For one night only\, the house will glow with soft Christmas lights as we welcome you to our Fairytale Christmas Light Tour. \nFrom 6:00 p.m. until the final tour at 8:40 p.m.\, groups of no more than 10 will move through the halls of this Gilded Age home. Each room will be touched with warm holiday light\, trimmed trees\, and scenes inspired by the timeless wonder of fairytales. Sparkling ornaments\, storybook displays\, and delicate winter accents will whisper of Christmases long ago. \nThe Gilded Age carried Christmas with beauty and intention. Evergreen boughs were gathered by hand\, gifts were chosen with care\, and the glow of lamplight transformed parlors into places of quiet enchantment. These traditions may feel distant from our modern pace\, yet they still stir something familiar and comforting within us. \nDo not mistake this evening for a bustling holiday spectacle. No loud fanfare awaits you. What you will find instead is something far more meaningful\, a peaceful walk through soft light and story\, an intimate moment of calm in the heart of the season. \nAll proceeds from this event directly support the preservation of the Meux Home Museum\, Fresno’s last surviving Gilded Age treasure. Your visit helps protect this historic home and the traditions we safeguard for the generations yet to come. \nThe lights are glowing\, the rooms are ready. Will you step inside? \nEvent Details \n\nDate: Friday\, December 19 2025\nTime: Tours start at 6:00 p.m. and run every 20 minutes until 8:40 p.m. Reservations required.\nPrice: $20 per guest.\nTickets: Reservations required. Must be purchased below\, no sales at the door
URL:https://meuxhomemuseum.org/events/night-tour-2025/
LOCATION:Meux Home Museum\, 1007 R Street\, Fresno\, CA\, 93721\, United States
CATEGORIES:Christmas Light Night Tour,Evening Tours
ATTACH;FMTTYPE=image/jpeg:https://meuxhomemuseum.org/wp-content/uploads/2025/12/meux-xmas-night-tour-25-1-scaled.jpg
END:VEVENT
BEGIN:VEVENT
DTSTART;TZID=America/Los_Angeles:20251206T110000
DTEND;TZID=America/Los_Angeles:20251206T153000
DTSTAMP:20260425T094511
CREATED:20251026T001130Z
LAST-MODIFIED:20251123T043720Z
UID:2302-1765018800-1765035000@meuxhomemuseum.org
SUMMARY:Meux Home Museum Fairytale Christmas
DESCRIPTION:A Fairytale Christmas Tea at the Meux Home Museum \nStep into a storybook this holiday season as the Meux Home Museum presents A Fairytale Christmas Tea on Saturday\, December 6. Guests are invited to spend the day wrapped in the wonder of a bygone era\, where the glow of candlelight and the scent of evergreen fill the air. \nEnjoy an elegant two-hour tea service inside the museum’s historic Carriage House\, adorned with holiday finery and the charm of a Victorian gathering. Delicate sandwiches\, fine tea\, and sweets will be served as you enjoy the company of friends and fellow lovers of history. After tea\, wander through the grand Gilded Age home\, where each room will be transformed into a different fairytale brought to life through exquisite Christmas décor and storytelling. \nThroughout the day\, costumed volunteers will share tales of Victorian holiday traditions\, and guests will have the chance to watch artisans demonstrate the kinds of handmade crafts that once filled parlors during the season of giving. A silent auction will offer beautifully curated items and experiences\, with every winning bid helping to preserve this historic treasure for generations to come. \nEvent Details• Date: Saturday\, December 6• Tea Times: 11:00 a.m. and 1:30 p.m.• Duration: 2 hours per seating• Tickets: $75 per guest \nEvery ticket purchased supports the Meux Home Museum’s mission to keep history alive in the heart of Fresno. \nStep into the magic… and make this Christmas part of your story.
URL:https://meuxhomemuseum.org/events/christmastea2025/
LOCATION:Meux Home Museum\, 1007 R Street\, Fresno\, CA\, 93721\, United States
ATTACH;FMTTYPE=image/jpeg:https://meuxhomemuseum.org/wp-content/uploads/2025/10/Wishlist-vintage-scaled.jpg
END:VEVENT
BEGIN:VEVENT
DTSTART;VALUE=DATE:20251031
DTEND;VALUE=DATE:20251103
DTSTAMP:20260425T094511
CREATED:20251025T003111Z
LAST-MODIFIED:20251107T052452Z
UID:2299-1761868800-1762127999@meuxhomemuseum.org
SUMMARY:Museum Closed For Christmas Setup
DESCRIPTION:Once Upon a Christmas…The Meux Home Museum is taking a short winter’s pause to prepare for our Fairy Tale Christmas display. \nWe will be closed from October 31 to November 2 while our volunteers transform every room into scenes of storybook wonder. \nTours will resume the following weekend\, beginning November 8.Come see the magic unfold and step into a Christmas tale come to life!
URL:https://meuxhomemuseum.org/events/museum-closed-for-christmas-setup/
LOCATION:CA
ATTACH;FMTTYPE=image/jpeg:https://meuxhomemuseum.org/wp-content/uploads/2025/10/Red-and-Brown-Holly-Christmas-scaled.jpg
END:VEVENT
BEGIN:VEVENT
DTSTART;VALUE=DATE:20251025
DTEND;VALUE=DATE:20251026
DTSTAMP:20260425T094511
CREATED:20251025T002712Z
LAST-MODIFIED:20251025T002712Z
UID:2296-1761350400-1761436799@meuxhomemuseum.org
SUMMARY:Closed For Private Gathering
DESCRIPTION:The Meux Home Museum will be closed for a private gathering October 25\, 2025 and will reopen tomorrow for regular tours. Thank you for your understanding as we host a special event inside this historic home.
URL:https://meuxhomemuseum.org/events/closed-for-private-gathering/
LOCATION:Meux Home Museum\, 1007 R Street\, Fresno\, CA\, 93721\, United States
ATTACH;FMTTYPE=image/jpeg:https://meuxhomemuseum.org/wp-content/uploads/2025/10/Closed-For-Private-Event-Copy-scaled-e1761351940641.jpg
END:VEVENT
BEGIN:VEVENT
DTSTART;TZID=America/Los_Angeles:20251023T180000
DTEND;TZID=America/Los_Angeles:20251023T204000
DTSTAMP:20260425T094511
CREATED:20250929T230839Z
LAST-MODIFIED:20251023T060658Z
UID:2152-1761242400-1761252000@meuxhomemuseum.org
SUMMARY:4th Annual Candlelight Mourning Tour
DESCRIPTION:Step softly\, dear guest\, for the house of Dr. Meux is not quite as it appears in the daylight. On Thursday\, October 23\, the Meux Home Museum will once again dim its lamps and open its doors for the 4th Annual Candlelight Mourning Tour. \nFrom 6:00 p.m. until the final tour at 8:40 p.m.\, groups of no more than 10 will be guided by flickering candlelight through the rooms of this Victorian home. Along the way you will encounter the curious traditions of mourning that once shaped nineteenth century households. Black crepe upon doorways\, mirrors covered in fabric\, portraits adorned with tokens of grief\, each detail meant to honor the departed and protect the living. \nThe Victorians carried sorrow with ceremony. A widow’s veil could stretch for yards\, a child’s lock of hair might be preserved in jewelry\, and mourning attire was worn as a visible mark of loss. These rituals\, both tender and uncanny\, may feel strangely distant and yet familiar to us today. \nDo not mistake this event for a frightful spectacle. No phantoms will leap from the shadows. What you will find is something far more intriguing: a quiet step into the past\, an intimate look at how families once faced grief in candlelit rooms much like these. \nAll proceeds from this event directly support the preservation of the Meux Home Museum\, Fresno’s last surviving Victorian treasure. By joining us\, you not only step into history\, you help keep it alive for generations to come. \nThe candles are lit\, the rooms are waiting. Will you step inside? \nEvent Details \n\nDate: Thursday\, October 23\nTime: Tours start at 6:00 p.m. and run every 20 minutes until 8:40 p.m. Reservations required\nPrice: $20 per guest\nTickets: Must be purchased below\, no sales at the door
URL:https://meuxhomemuseum.org/events/mourningtour2025/
LOCATION:Meux Home Museum\, 1007 R Street\, Fresno\, CA\, 93721\, United States
ATTACH;FMTTYPE=image/jpeg:https://meuxhomemuseum.org/wp-content/uploads/2025/09/mourning-tour-2025.jpg
END:VEVENT
BEGIN:VEVENT
DTSTART;TZID=America/Los_Angeles:20251011T080000
DTEND;TZID=America/Los_Angeles:20251011T130000
DTSTAMP:20260425T094511
CREATED:20250330T052826Z
LAST-MODIFIED:20250330T060617Z
UID:1702-1760169600-1760187600@meuxhomemuseum.org
SUMMARY:The Meux Home Museum Bygone Bazaar Market
DESCRIPTION:Fall into History at The Meux Home Museum Bygone Bazaar!\nMark your calendars for Saturday\, October 11th\, from 8 AM to 1 PM\, and celebrate the season at our fall edition of the Bygone Bazaar. Set against the backdrop of the Meux Home Museum’s vibrant autumn gardens\, this open-air market is your invitation to explore an eclectic mix of local vendors\, handmade creations\, vintage finds\, and rare curiosities. Come wander the historic grounds and discover treasures both old and new in the heart of Downtown Fresno. \nThe Bazaar offers something for everyone—whether you’re searching for antique gems\, charming home décor\, artisan jewelry\, original art\, or whimsical oddities. The Meux Home Museum will also feature its own booth of donated items\, with all proceeds going directly toward preserving this Victorian-era landmark and its story for future generations. \nWhen you shop at the Bazaar\, you’re doing more than finding something special—you’re helping to keep local history alive. \nInterested in Becoming a Vendor?\nWe’d be thrilled to have you join us this fall. Vendor spaces are $50 for a 10′ x 10′ booth\, with placement determined on a first come\, first served basis. \nApplications will open August 1st\, 2025. Be sure to mark the date and check back then to reserve your spot!
URL:https://meuxhomemuseum.org/events/fall-bygone-bazaar-market/
LOCATION:Meux Home Museum\, 1007 R Street\, Fresno\, CA\, 93721\, United States
ATTACH;FMTTYPE=image/png:https://meuxhomemuseum.org/wp-content/uploads/2025/03/Fall-Meux-Home-Bygone-Bazaar-Copy.png
END:VEVENT
BEGIN:VEVENT
DTSTART;TZID=America/Los_Angeles:20250926T180000
DTEND;TZID=America/Los_Angeles:20250926T210000
DTSTAMP:20260425T094511
CREATED:20250309T202512Z
LAST-MODIFIED:20250925T190008Z
UID:1476-1758909600-1758920400@meuxhomemuseum.org
SUMMARY:Bourbon By Gaslight - When Your Week Deserves A Whiskey
DESCRIPTION:Step into the Past with a Glass in Hand at the Meux Home Museum Bourbon by Gaslight!\nJoin us on Friday\, September 26th for an unforgettable evening where the grandeur of the Gilded Age meets the smooth sophistication of fine bourbon and whiskey. The Meux Home Museum invites you to indulge in an exclusive tasting experience that blends rich history\, exceptional spirits\, and an atmosphere you won’t find anywhere else in the Central Valley. \nWhat Awaits You:\nExclusive Tastings:Savor the depth and complexity of premium bourbons and whiskeys from a carefully selected lineup of distilleries. While the final vendor list is still being curated\, guests can look forward to offerings from some of the region’s most celebrated and up-and-coming names in the world of spirits. Whether you’re chasing bold new flavors or sticking with the classics\, every sip will be a journey through craftsmanship and tradition. \nGilded Age Elegance:Wander the halls and garden paths of the beautifully preserved Meux Home Museum\, illuminated by gaslight and filled with the charm of a bygone era. From the ornamental woodwork to the flicker of oil lamps\, this Victorian treasure offers the perfect backdrop for an evening of indulgence and connection. \nLive Music All Evening:Let the sounds of live music set the mood as you sip\, savor\, and stroll through the historic grounds. From soft acoustic melodies to lively instrumentals that echo the spirit of a bygone age\, the evening’s entertainment will add warmth\, rhythm\, and ambiance to your entire experience. Whether you’re relaxing with a cigar or enjoying a conversation over a glass of bourbon\, the music will be the perfect companion to a night of elegance and celebration. \nCigar-Friendly Atmosphere:Bring your favorite cigar and unwind in the moonlit garden. The pairing of smoky bourbon and a fine cigar beneath the stars promises to be one of the evening’s simple pleasures. \nGourmet Charcuterie:Feast on a luxurious charcuterie spread prepared by A Thumbs Up Catering. Enjoy a curated mix of artisan cheeses\, meats\, fruits\, and accompaniments designed to perfectly balance the flavors of your spirits and elevate your entire tasting experience. \n\nDon’t Drink? Don’t Worry! \nWe’re offering a Sober Driver Ticket for guests who prefer to enjoy the evening without alcohol. You’ll still have full access to the event\, live entertainment\, and our gourmet charcuterie—just without the tastings. All guests\, including sober drivers\, must be 21+ and present a valid driver’s license at check-in. \n\nEvent Details: \nDate: Friday\, September 26thTime: 6:00 PM – 9:00 PMLocation: Meux Home Museum\, Fresno CATicket Price: $75 General Admission | $45 Sober Driver AdmissionAttire: Business casual attire is encouraged to complement the settingAge Requirement: 21 and over only. Valid ID required at entry. \n\nWhy Attend?Every ticket supports the Meux Home Museum\, helping us preserve and share this historic gem with future generations. By attending\, you’re not just raising a glass—you’re raising support for local heritage\, community events\, and cultural education. \n\nTickets On Sale Now!! \nJoin us and toast to history at Bourbon by Gaslight. \n\nAttending Vendors
URL:https://meuxhomemuseum.org/events/bbg/
LOCATION:Meux Home Museum\, 1007 R Street\, Fresno\, CA\, 93721\, United States
ATTACH;FMTTYPE=image/png:https://meuxhomemuseum.org/wp-content/uploads/2025/03/MEUX-HOME-BOURBON-NIGHT-3-240x340-1.png
END:VEVENT
BEGIN:VEVENT
DTSTART;TZID=America/Los_Angeles:20250510T110000
DTEND;TZID=America/Los_Angeles:20250510T133000
DTSTAMP:20260425T094511
CREATED:20250309T195240Z
LAST-MODIFIED:20250503T153405Z
UID:1471-1746874800-1746883800@meuxhomemuseum.org
SUMMARY:Mad Hatter Tea Party
DESCRIPTION:The Mad Hatter Spring Tea\nat The Meux Home Museum\nLose yourself in the magic of a storybook brought to life as the Meux Home Museum presents the Mad Hatter Spring Tea\, an unforgettable afternoon where the playful whimsy of Lewis Carroll meets the refined splendor of the Gilded Age. Inspired by the beloved world of Alice’s Adventures in Wonderland\, this elegant affair invites you to step through the looking glass and into a realm of enchantment\, indulgence\, and delight. Let charm\, laughter\, and a touch of wonder set the tone for a tea experience unlike any other. \nCheck-in will begin promptly at 11:00 a.m.\, with tea service starting at 11:30 a.m. Guests are invited to arrive early to mingle and start precheck before settling in for a delightful tea. \nDress to impress in your finest spring tea attire. Florals\, frills\, wide brims\, and a hint of playful eccentricity are most welcome. Embrace the spirit of the season and the storybook setting as we honor both elegance and imagination in the heart of spring. \nYour afternoon will include:\n• A full-service afternoon tea featuring elegant savories\, sweets\, and a variety of curated teas\n• A Silent Auction Table with unique items and experiences available for bid\n• A Small Gift Table offering charming keepsakes to remember the occasion\n• A self-guided tour of the Museum\, offering a glimpse into the grandeur of Gilded Age life\n• Live demonstrations to enrich and entertain throughout the event \nTables will seat eight guests each\, encouraging warm conversation and a relaxed\, sociable atmosphere. Parties wishing to sit together are strongly encouraged to purchase their tickets in a single transaction when possible. \nTo ensure your group is seated at the same table\, please send an email to events@meuxhomemuseum.org after your ticket purchase with the full names of those in your party. \nThe Mad Hatter Spring Tea is more than an event. It is a joyful celebration of community\, creativity\, and the enduring charm of a bygone era. Reserve your place today and join us for an afternoon you will not soon forget.
URL:https://meuxhomemuseum.org/events/mad-hatter-tea-party/
LOCATION:Meux Home Museum\, 1007 R Street\, Fresno\, CA\, 93721\, United States
ATTACH;FMTTYPE=image/jpeg:https://meuxhomemuseum.org/wp-content/uploads/2025/03/MHM-Spring-Tea-2025-large-Copy-1.jpg
END:VEVENT
BEGIN:VEVENT
DTSTART;VALUE=DATE:20250420
DTEND;VALUE=DATE:20250421
DTSTAMP:20260425T094511
CREATED:20250419T214321Z
LAST-MODIFIED:20250419T214321Z
UID:1877-1745107200-1745193599@meuxhomemuseum.org
SUMMARY:Easter Day Closure
DESCRIPTION:Easter Closure Announcement \nThe Meux Home Museum will be closed on Easter Sunday to allow our dedicated volunteers time to enjoy the holiday with their families. \nWe appreciate your understanding and continued support as we work to preserve this Gilded Age treasure in the heart of Downtown Fresno. \nThe museum will reopen for tours next Friday\, during our regular hours from 12:00 to 3:00 p.m. We look forward to welcoming you then. \nThank you\, and we wish you a peaceful and joyful Easter.
URL:https://meuxhomemuseum.org/events/easter-day-closure/
LOCATION:Meux Home Museum\, 1007 R Street\, Fresno\, CA\, 93721\, United States
ATTACH;FMTTYPE=image/jpeg:https://meuxhomemuseum.org/wp-content/uploads/2025/04/meux-easter-2025.jpg
END:VEVENT
BEGIN:VEVENT
DTSTART;TZID=America/Los_Angeles:20250412T080000
DTEND;TZID=America/Los_Angeles:20250412T130000
DTSTAMP:20260425T094511
CREATED:20250307T222339Z
LAST-MODIFIED:20250326T222425Z
UID:1447-1744444800-1744462800@meuxhomemuseum.org
SUMMARY:The Meux Home Museum Bygone Bazaar Market
DESCRIPTION:Step Into Spring at The Meux Home Museum Bygone Bazaar!\nJoin us on April 12th\, from 8 AM to 1 PM as the gardens of the Meux Home Museum come to life with our spring Bygone Bazaar\, a lively open-air market filled with local vendors\, handmade goods\, vintage finds\, and one-of-a-kind treasures. Stroll through the grounds\, shop from a variety of small businesses and artisans\, and uncover the unexpected while enjoying the charm of Downtown Fresno’s last standing Gilded Age home. \nThe Bazaar is your chance to discover something truly special. With an array of unique offerings from antiques and home décor to jewelry\, art\, and playful curiosities\, there is something for everyone to enjoy. The Meux Home Museum will also host its own booth of donated items\, with proceeds helping to preserve this beloved local landmark for generations to come. \nYour participation makes a difference. By attending\, shopping\, and supporting the Bazaar\, you are helping the Meux Home Museum continue its mission to share local history and keep this historic treasure thriving. \nInterested in Becoming a Vendor?\nWe would love to have you join us. Vendor spaces are available for $50 per 10×10 booth\, with placement offered on a first come\, first served basis. \nTo apply\, press the “Apply Here” link to fill out the vendor application. We’ll follow up with everything you need to be part of this special event. \nApply Here \nWe cannot wait to welcome you to the Bazaar!
URL:https://meuxhomemuseum.org/events/the-meux-home-museum-bygone-bazaar-market/
LOCATION:Meux Home Museum\, 1007 R Street\, Fresno\, CA\, 93721\, United States
ATTACH;FMTTYPE=image/jpeg:https://meuxhomemuseum.org/wp-content/uploads/2025/03/Spring-Meux-Home-Bygone-Bazaar-Copy-Copy-2.jpg
END:VEVENT
BEGIN:VEVENT
DTSTART;VALUE=DATE:20250405
DTEND;VALUE=DATE:20250406
DTSTAMP:20260425T094511
CREATED:20250405T200945Z
LAST-MODIFIED:20250405T200945Z
UID:1826-1743811200-1743897599@meuxhomemuseum.org
SUMMARY:Closed For Private Event
DESCRIPTION:Museum Closed for Private Event Today\nThe Meux Home Museum is closed today for a private event. \nTours will resume tomorrow from **12:00 PM to 3:00 PM**. We look forward to welcoming you back for a glimpse into Fresno’s Victorian past! \nThank you for your understanding and continued support.
URL:https://meuxhomemuseum.org/events/closed-for-private-event/
LOCATION:CA
END:VEVENT
BEGIN:VEVENT
DTSTART;TZID=America/Los_Angeles:20250328T180000
DTEND;TZID=America/Los_Angeles:20250328T210000
DTSTAMP:20260425T094511
CREATED:20250303T030127Z
LAST-MODIFIED:20250309T210728Z
UID:1307-1743184800-1743195600@meuxhomemuseum.org
SUMMARY:Wine Night at the Meux Home Museum
DESCRIPTION:Sip into Spring: An Evening at the Meux Home Museum\nJoin us for an unforgettable night as the historic Meux Home opens its gates for an exclusive wine tasting experience that blends Victorian charm with modern flavor. \nOn Friday evening\, step back in time as you stroll through the beautifully preserved first floor of the Meux Home on a self-guided tour\, then make your way to the Carriage House where our tasting begins. Starting at 6:00 p.m.\, guests 21 and over are invited to sample a curated selection of exceptional wines from Grocery Outlet’s collection\, just in time for their highly anticipated Wine Sale. \nWhether you’re a seasoned wine lover or simply looking for a unique night out\, this is the perfect opportunity to sip\, savor\, and explore one of Fresno’s last remaining Victorian treasures. \nTickets are just $20.00\, with valid ID required at entry. For those serving as Designated Drivers\, we invite you to join us at no cost to enjoy the ambiance (and our sincere gratitude). \nBring your friends and make it a night to remember. Let’s toast to history\, good company\, and great wine at the Meux Home Museum. \nThis is a 21 and over event. \nTickets available for purchase at the gates.
URL:https://meuxhomemuseum.org/events/wine-night-at-the-meux-home-museum/
LOCATION:Meux Home Museum\, 1007 R Street\, Fresno\, CA\, 93721\, United States
ATTACH;FMTTYPE=image/jpeg:https://meuxhomemuseum.org/wp-content/uploads/2025/03/Tasting-at-the-Meux-240x360-1-1.jpg
END:VEVENT
END:VCALENDAR