BEGIN:VCALENDAR
VERSION:2.0
PRODID:-//The Meux Home Museum - ECPv6.15.20//NONSGML v1.0//EN
CALSCALE:GREGORIAN
METHOD:PUBLISH
X-WR-CALNAME:The Meux Home Museum
X-ORIGINAL-URL:https://meuxhomemuseum.org
X-WR-CALDESC:Events for The Meux Home Museum
REFRESH-INTERVAL;VALUE=DURATION:PT1H
X-Robots-Tag:noindex
X-PUBLISHED-TTL:PT1H
BEGIN:VTIMEZONE
TZID:America/Los_Angeles
BEGIN:DAYLIGHT
TZOFFSETFROM:-0800
TZOFFSETTO:-0700
TZNAME:PDT
DTSTART:20240310T100000
END:DAYLIGHT
BEGIN:STANDARD
TZOFFSETFROM:-0700
TZOFFSETTO:-0800
TZNAME:PST
DTSTART:20241103T090000
END:STANDARD
BEGIN:DAYLIGHT
TZOFFSETFROM:-0800
TZOFFSETTO:-0700
TZNAME:PDT
DTSTART:20250309T100000
END:DAYLIGHT
BEGIN:STANDARD
TZOFFSETFROM:-0700
TZOFFSETTO:-0800
TZNAME:PST
DTSTART:20251102T090000
END:STANDARD
BEGIN:DAYLIGHT
TZOFFSETFROM:-0800
TZOFFSETTO:-0700
TZNAME:PDT
DTSTART:20260308T100000
END:DAYLIGHT
BEGIN:STANDARD
TZOFFSETFROM:-0700
TZOFFSETTO:-0800
TZNAME:PST
DTSTART:20261101T090000
END:STANDARD
END:VTIMEZONE
BEGIN:VEVENT
DTSTART;VALUE=DATE:20251031
DTEND;VALUE=DATE:20251103
DTSTAMP:20260425T083541
CREATED:20251025T003111Z
LAST-MODIFIED:20251107T052452Z
UID:2299-1761868800-1762127999@meuxhomemuseum.org
SUMMARY:Museum Closed For Christmas Setup
DESCRIPTION:Once Upon a Christmas…The Meux Home Museum is taking a short winter’s pause to prepare for our Fairy Tale Christmas display. \nWe will be closed from October 31 to November 2 while our volunteers transform every room into scenes of storybook wonder. \nTours will resume the following weekend\, beginning November 8.Come see the magic unfold and step into a Christmas tale come to life!
URL:https://meuxhomemuseum.org/events/museum-closed-for-christmas-setup/
LOCATION:CA
ATTACH;FMTTYPE=image/jpeg:https://meuxhomemuseum.org/wp-content/uploads/2025/10/Red-and-Brown-Holly-Christmas-scaled.jpg
END:VEVENT
END:VCALENDAR