BEGIN:VCALENDAR
VERSION:2.0
PRODID:-//The Meux Home Museum - ECPv6.15.20//NONSGML v1.0//EN
CALSCALE:GREGORIAN
METHOD:PUBLISH
X-WR-CALNAME:The Meux Home Museum
X-ORIGINAL-URL:https://meuxhomemuseum.org
X-WR-CALDESC:Events for The Meux Home Museum
REFRESH-INTERVAL;VALUE=DURATION:PT1H
X-Robots-Tag:noindex
X-PUBLISHED-TTL:PT1H
BEGIN:VTIMEZONE
TZID:America/Los_Angeles
BEGIN:DAYLIGHT
TZOFFSETFROM:-0800
TZOFFSETTO:-0700
TZNAME:PDT
DTSTART:20240310T100000
END:DAYLIGHT
BEGIN:STANDARD
TZOFFSETFROM:-0700
TZOFFSETTO:-0800
TZNAME:PST
DTSTART:20241103T090000
END:STANDARD
BEGIN:DAYLIGHT
TZOFFSETFROM:-0800
TZOFFSETTO:-0700
TZNAME:PDT
DTSTART:20250309T100000
END:DAYLIGHT
BEGIN:STANDARD
TZOFFSETFROM:-0700
TZOFFSETTO:-0800
TZNAME:PST
DTSTART:20251102T090000
END:STANDARD
BEGIN:DAYLIGHT
TZOFFSETFROM:-0800
TZOFFSETTO:-0700
TZNAME:PDT
DTSTART:20260308T100000
END:DAYLIGHT
BEGIN:STANDARD
TZOFFSETFROM:-0700
TZOFFSETTO:-0800
TZNAME:PST
DTSTART:20261101T090000
END:STANDARD
END:VTIMEZONE
BEGIN:VEVENT
DTSTART;TZID=America/Los_Angeles:20251011T080000
DTEND;TZID=America/Los_Angeles:20251011T130000
DTSTAMP:20260425T094334
CREATED:20250330T052826Z
LAST-MODIFIED:20250330T060617Z
UID:1702-1760169600-1760187600@meuxhomemuseum.org
SUMMARY:The Meux Home Museum Bygone Bazaar Market
DESCRIPTION:Fall into History at The Meux Home Museum Bygone Bazaar!\nMark your calendars for Saturday\, October 11th\, from 8 AM to 1 PM\, and celebrate the season at our fall edition of the Bygone Bazaar. Set against the backdrop of the Meux Home Museum’s vibrant autumn gardens\, this open-air market is your invitation to explore an eclectic mix of local vendors\, handmade creations\, vintage finds\, and rare curiosities. Come wander the historic grounds and discover treasures both old and new in the heart of Downtown Fresno. \nThe Bazaar offers something for everyone—whether you’re searching for antique gems\, charming home décor\, artisan jewelry\, original art\, or whimsical oddities. The Meux Home Museum will also feature its own booth of donated items\, with all proceeds going directly toward preserving this Victorian-era landmark and its story for future generations. \nWhen you shop at the Bazaar\, you’re doing more than finding something special—you’re helping to keep local history alive. \nInterested in Becoming a Vendor?\nWe’d be thrilled to have you join us this fall. Vendor spaces are $50 for a 10′ x 10′ booth\, with placement determined on a first come\, first served basis. \nApplications will open August 1st\, 2025. Be sure to mark the date and check back then to reserve your spot!
URL:https://meuxhomemuseum.org/events/fall-bygone-bazaar-market/
LOCATION:Meux Home Museum\, 1007 R Street\, Fresno\, CA\, 93721\, United States
ATTACH;FMTTYPE=image/png:https://meuxhomemuseum.org/wp-content/uploads/2025/03/Fall-Meux-Home-Bygone-Bazaar-Copy.png
END:VEVENT
END:VCALENDAR