BEGIN:VCALENDAR
VERSION:2.0
PRODID:-//The Meux Home Museum - ECPv6.15.20//NONSGML v1.0//EN
CALSCALE:GREGORIAN
METHOD:PUBLISH
X-ORIGINAL-URL:https://meuxhomemuseum.org
X-WR-CALDESC:Events for The Meux Home Museum
REFRESH-INTERVAL;VALUE=DURATION:PT1H
X-Robots-Tag:noindex
X-PUBLISHED-TTL:PT1H
BEGIN:VTIMEZONE
TZID:America/Los_Angeles
BEGIN:DAYLIGHT
TZOFFSETFROM:-0800
TZOFFSETTO:-0700
TZNAME:PDT
DTSTART:20240310T100000
END:DAYLIGHT
BEGIN:STANDARD
TZOFFSETFROM:-0700
TZOFFSETTO:-0800
TZNAME:PST
DTSTART:20241103T090000
END:STANDARD
BEGIN:DAYLIGHT
TZOFFSETFROM:-0800
TZOFFSETTO:-0700
TZNAME:PDT
DTSTART:20250309T100000
END:DAYLIGHT
BEGIN:STANDARD
TZOFFSETFROM:-0700
TZOFFSETTO:-0800
TZNAME:PST
DTSTART:20251102T090000
END:STANDARD
BEGIN:DAYLIGHT
TZOFFSETFROM:-0800
TZOFFSETTO:-0700
TZNAME:PDT
DTSTART:20260308T100000
END:DAYLIGHT
BEGIN:STANDARD
TZOFFSETFROM:-0700
TZOFFSETTO:-0800
TZNAME:PST
DTSTART:20261101T090000
END:STANDARD
END:VTIMEZONE
BEGIN:VEVENT
DTSTART;TZID=America/Los_Angeles:20250510T110000
DTEND;TZID=America/Los_Angeles:20250510T133000
DTSTAMP:20260425T163642
CREATED:20250309T195240Z
LAST-MODIFIED:20250503T153405Z
UID:1471-1746874800-1746883800@meuxhomemuseum.org
SUMMARY:Mad Hatter Tea Party
DESCRIPTION:The Mad Hatter Spring Tea\nat The Meux Home Museum\nLose yourself in the magic of a storybook brought to life as the Meux Home Museum presents the Mad Hatter Spring Tea\, an unforgettable afternoon where the playful whimsy of Lewis Carroll meets the refined splendor of the Gilded Age. Inspired by the beloved world of Alice’s Adventures in Wonderland\, this elegant affair invites you to step through the looking glass and into a realm of enchantment\, indulgence\, and delight. Let charm\, laughter\, and a touch of wonder set the tone for a tea experience unlike any other. \nCheck-in will begin promptly at 11:00 a.m.\, with tea service starting at 11:30 a.m. Guests are invited to arrive early to mingle and start precheck before settling in for a delightful tea. \nDress to impress in your finest spring tea attire. Florals\, frills\, wide brims\, and a hint of playful eccentricity are most welcome. Embrace the spirit of the season and the storybook setting as we honor both elegance and imagination in the heart of spring. \nYour afternoon will include:\n• A full-service afternoon tea featuring elegant savories\, sweets\, and a variety of curated teas\n• A Silent Auction Table with unique items and experiences available for bid\n• A Small Gift Table offering charming keepsakes to remember the occasion\n• A self-guided tour of the Museum\, offering a glimpse into the grandeur of Gilded Age life\n• Live demonstrations to enrich and entertain throughout the event \nTables will seat eight guests each\, encouraging warm conversation and a relaxed\, sociable atmosphere. Parties wishing to sit together are strongly encouraged to purchase their tickets in a single transaction when possible. \nTo ensure your group is seated at the same table\, please send an email to events@meuxhomemuseum.org after your ticket purchase with the full names of those in your party. \nThe Mad Hatter Spring Tea is more than an event. It is a joyful celebration of community\, creativity\, and the enduring charm of a bygone era. Reserve your place today and join us for an afternoon you will not soon forget.
URL:https://meuxhomemuseum.org/events/mad-hatter-tea-party/
LOCATION:Meux Home Museum\, 1007 R Street\, Fresno\, CA\, 93721\, United States
ATTACH;FMTTYPE=image/jpeg:https://meuxhomemuseum.org/wp-content/uploads/2025/03/MHM-Spring-Tea-2025-large-Copy-1.jpg
END:VEVENT
END:VCALENDAR